BEGIN:VCALENDAR
VERSION:2.0
PRODID:-//Mount Olive Lutheran - ECPv6.15.20//NONSGML v1.0//EN
CALSCALE:GREGORIAN
METHOD:PUBLISH
X-ORIGINAL-URL:https://mtolivemke.org
X-WR-CALDESC:Events for Mount Olive Lutheran
REFRESH-INTERVAL;VALUE=DURATION:PT1H
X-Robots-Tag:noindex
X-PUBLISHED-TTL:PT1H
BEGIN:VTIMEZONE
TZID:America/Chicago
BEGIN:DAYLIGHT
TZOFFSETFROM:-0600
TZOFFSETTO:-0500
TZNAME:CDT
DTSTART:20240310T080000
END:DAYLIGHT
BEGIN:STANDARD
TZOFFSETFROM:-0500
TZOFFSETTO:-0600
TZNAME:CST
DTSTART:20241103T070000
END:STANDARD
BEGIN:DAYLIGHT
TZOFFSETFROM:-0600
TZOFFSETTO:-0500
TZNAME:CDT
DTSTART:20250309T080000
END:DAYLIGHT
BEGIN:STANDARD
TZOFFSETFROM:-0500
TZOFFSETTO:-0600
TZNAME:CST
DTSTART:20251102T070000
END:STANDARD
BEGIN:DAYLIGHT
TZOFFSETFROM:-0600
TZOFFSETTO:-0500
TZNAME:CDT
DTSTART:20260308T080000
END:DAYLIGHT
BEGIN:STANDARD
TZOFFSETFROM:-0500
TZOFFSETTO:-0600
TZNAME:CST
DTSTART:20261101T070000
END:STANDARD
END:VTIMEZONE
BEGIN:VEVENT
DTSTART;VALUE=DATE:20250130
DTEND;VALUE=DATE:20250202
DTSTAMP:20260419T093415
CREATED:20250127T210559Z
LAST-MODIFIED:20250127T211300Z
UID:1311-1738195200-1738454399@mtolivemke.org
SUMMARY:7/8 Boys Basketball Tournament
DESCRIPTION:Jan 30 to Feb 1. Hales Corners Tournament. Game times TBA.
URL:https://mtolivemke.org/event/7-8-boys-basketball-tournament-1-30-to-2-1-25/
CATEGORIES:Athletics,School Calendar
END:VEVENT
BEGIN:VEVENT
DTSTART;TZID=America/Chicago:20250201T120000
DTEND;TZID=America/Chicago:20250201T130000
DTSTAMP:20260419T093415
CREATED:20250127T210739Z
LAST-MODIFIED:20250127T211222Z
UID:1313-1738411200-1738414800@mtolivemke.org
SUMMARY:7/8 Girls Basketball Game
DESCRIPTION:Away Game vs. Our Reedemer/Zion Lutheran
URL:https://mtolivemke.org/event/7-8-girls-basketball-game-2-2-2025/
CATEGORIES:Athletics,School Calendar
END:VEVENT
BEGIN:VEVENT
DTSTART;TZID=America/Chicago:20250204T043000
DTEND;TZID=America/Chicago:20250204T173000
DTSTAMP:20260419T093415
CREATED:20250129T231734Z
LAST-MODIFIED:20250129T231734Z
UID:1481-1738643400-1738690200@mtolivemke.org
SUMMARY:5/6 Girls Basketball Game
DESCRIPTION:Home Game vs. Hales Corners
URL:https://mtolivemke.org/event/5-6-girls-game-2-4-2025/
CATEGORIES:Athletics,School Calendar
END:VEVENT
BEGIN:VEVENT
DTSTART;TZID=America/Chicago:20250204T173000
DTEND;TZID=America/Chicago:20250204T183000
DTSTAMP:20260419T093415
CREATED:20250129T231825Z
LAST-MODIFIED:20250129T231853Z
UID:1483-1738690200-1738693800@mtolivemke.org
SUMMARY:5/6 Boys Basketball Game
DESCRIPTION:Home Game vs. Hales Corners
URL:https://mtolivemke.org/event/5-6-boys-basketball-game-2-4-25/
CATEGORIES:Athletics,School Calendar
END:VEVENT
BEGIN:VEVENT
DTSTART;TZID=America/Chicago:20250205T163000
DTEND;TZID=America/Chicago:20250205T173000
DTSTAMP:20260419T093415
CREATED:20250129T231948Z
LAST-MODIFIED:20250129T232000Z
UID:1485-1738773000-1738776600@mtolivemke.org
SUMMARY:7/8 Girls Basketball Game
DESCRIPTION:Away Game vs. Granville Lutheran
URL:https://mtolivemke.org/event/7-8-girls-basketball-game-2-5-25/
CATEGORIES:Athletics,School Calendar
END:VEVENT
BEGIN:VEVENT
DTSTART;TZID=America/Chicago:20250205T183000
DTEND;TZID=America/Chicago:20250205T193000
DTSTAMP:20260419T093415
CREATED:20250129T232105Z
LAST-MODIFIED:20250129T232105Z
UID:1487-1738780200-1738783800@mtolivemke.org
SUMMARY:7/8 Boys Basketball Game
DESCRIPTION:Away Game vs. Zion Lutheran
URL:https://mtolivemke.org/event/7-8-boys-basketball-game-2-5-25/
CATEGORIES:Athletics,School Calendar
END:VEVENT
BEGIN:VEVENT
DTSTART;TZID=America/Chicago:20250206T163000
DTEND;TZID=America/Chicago:20250206T173000
DTSTAMP:20260419T093415
CREATED:20250129T232205Z
LAST-MODIFIED:20250129T232205Z
UID:1489-1738859400-1738863000@mtolivemke.org
SUMMARY:5/6 Girls Basketball Game
DESCRIPTION:Home Game vs. Grace Oak Creek
URL:https://mtolivemke.org/event/5-6-girls-basketball-game-2-6-25/
CATEGORIES:Athletics,School Calendar
END:VEVENT
BEGIN:VEVENT
DTSTART;VALUE=DATE:20250207
DTEND;VALUE=DATE:20250209
DTSTAMP:20260419T093415
CREATED:20250129T232339Z
LAST-MODIFIED:20250129T233654Z
UID:1491-1738886400-1739059199@mtolivemke.org
SUMMARY:5/6 Girls Basketball Tournament
DESCRIPTION:Trinity Freistadt Tournament — 2/7 to 2/8. Game times TBA.
URL:https://mtolivemke.org/event/5-6-girls-tournament-2-7-to-2-8-25/
CATEGORIES:Athletics,School Calendar
END:VEVENT
BEGIN:VEVENT
DTSTART;VALUE=DATE:20250207
DTEND;VALUE=DATE:20250209
DTSTAMP:20260419T093415
CREATED:20250129T232447Z
LAST-MODIFIED:20250129T232447Z
UID:1493-1738886400-1739059199@mtolivemke.org
SUMMARY:7/8 Boys Basketball Tournament
DESCRIPTION:Divine Redeemer Tournament — 2/7 to 2/8. Game times TBA.
URL:https://mtolivemke.org/event/7-8-boys-tournament-2-7-to-2-8-25/
CATEGORIES:Athletics,School Calendar
END:VEVENT
BEGIN:VEVENT
DTSTART;TZID=America/Chicago:20250210T163000
DTEND;TZID=America/Chicago:20250210T173000
DTSTAMP:20260419T093415
CREATED:20250129T232543Z
LAST-MODIFIED:20250129T232601Z
UID:1495-1739205000-1739208600@mtolivemke.org
SUMMARY:5/6 Girls Basketball Game
DESCRIPTION:Home Game vs. St. Pauls West Allis
URL:https://mtolivemke.org/event/5-6-girls-basketball-game-2-10-25/
CATEGORIES:Athletics,School Calendar
END:VEVENT
BEGIN:VEVENT
DTSTART;TZID=America/Chicago:20250210T173000
DTEND;TZID=America/Chicago:20250210T183000
DTSTAMP:20260419T093415
CREATED:20250129T232641Z
LAST-MODIFIED:20250129T232652Z
UID:1497-1739208600-1739212200@mtolivemke.org
SUMMARY:5/6 Boys Basketball Game
DESCRIPTION:Home Game vs. St. Pauls West Allis
URL:https://mtolivemke.org/event/5-6-boys-basketball-game-2-10-25/
CATEGORIES:Athletics,School Calendar
END:VEVENT
BEGIN:VEVENT
DTSTART;TZID=America/Chicago:20250212T163000
DTEND;TZID=America/Chicago:20250212T173000
DTSTAMP:20260419T093415
CREATED:20250129T232748Z
LAST-MODIFIED:20250129T232801Z
UID:1499-1739377800-1739381400@mtolivemke.org
SUMMARY:7/8 Boys Basketball Game
DESCRIPTION:Home Game vs. Hales Corners 2
URL:https://mtolivemke.org/event/7-8-boys-basketball-game-2-12-25/
CATEGORIES:Athletics,School Calendar
END:VEVENT
BEGIN:VEVENT
DTSTART;TZID=America/Chicago:20250212T173000
DTEND;TZID=America/Chicago:20250212T183000
DTSTAMP:20260419T093415
CREATED:20250129T232848Z
LAST-MODIFIED:20250129T232901Z
UID:1501-1739381400-1739385000@mtolivemke.org
SUMMARY:7/8 Girls Basketball Game
DESCRIPTION:Home Game vs. Our Redeemer/Zion
URL:https://mtolivemke.org/event/7-8-girls-basketball-game-2-12-25/
CATEGORIES:Athletics,School Calendar
END:VEVENT
BEGIN:VEVENT
DTSTART;TZID=America/Chicago:20250213T163000
DTEND;TZID=America/Chicago:20250213T173000
DTSTAMP:20260419T093415
CREATED:20250129T233001Z
LAST-MODIFIED:20250129T233014Z
UID:1503-1739464200-1739467800@mtolivemke.org
SUMMARY:5/6 Girls Basketball Game
DESCRIPTION:Away Game vs. Our Fathers
URL:https://mtolivemke.org/event/5-6-girls-basketball-game-2-13-25/
CATEGORIES:Athletics,School Calendar
END:VEVENT
BEGIN:VEVENT
DTSTART;TZID=America/Chicago:20250213T173000
DTEND;TZID=America/Chicago:20250213T183000
DTSTAMP:20260419T093415
CREATED:20250129T233051Z
LAST-MODIFIED:20250129T233103Z
UID:1505-1739467800-1739471400@mtolivemke.org
SUMMARY:5/6 Boys Basketball Game
DESCRIPTION:Away Game vs. Our Fathers
URL:https://mtolivemke.org/event/5-6-boys-basketball-game-2-13-25/
CATEGORIES:Athletics,School Calendar
END:VEVENT
BEGIN:VEVENT
DTSTART;VALUE=DATE:20250214
DTEND;VALUE=DATE:20250216
DTSTAMP:20260419T093415
CREATED:20250129T233237Z
LAST-MODIFIED:20250129T233237Z
UID:1507-1739491200-1739663999@mtolivemke.org
SUMMARY:5/6 Boys Basketball Tournament
DESCRIPTION:Zion Lutheran Tournament — Feb 14-15. Game times TBA.
URL:https://mtolivemke.org/event/5-6-boys-basketball-tournament-2-14-to-2-15-25/
CATEGORIES:Athletics,School Calendar
END:VEVENT
BEGIN:VEVENT
DTSTART;TZID=America/Chicago:20250215T100000
DTEND;TZID=America/Chicago:20250215T110000
DTSTAMP:20260419T093415
CREATED:20250129T233339Z
LAST-MODIFIED:20250129T233339Z
UID:1509-1739613600-1739617200@mtolivemke.org
SUMMARY:7/8 Boys Basketball Game
DESCRIPTION:Away Game vs. Mt. Calvary
URL:https://mtolivemke.org/event/7-8-boys-basketball-game-2-15-25/
CATEGORIES:Athletics,School Calendar
END:VEVENT
BEGIN:VEVENT
DTSTART;TZID=America/Chicago:20250215T120000
DTEND;TZID=America/Chicago:20250215T130000
DTSTAMP:20260419T093415
CREATED:20250129T233426Z
LAST-MODIFIED:20250129T233435Z
UID:1511-1739620800-1739624400@mtolivemke.org
SUMMARY:7/8 Girls Basketball Game
DESCRIPTION:Away Game vs. Our Fathers
URL:https://mtolivemke.org/event/7-8-girls-basketball-game-2-15-25/
CATEGORIES:Athletics,School Calendar
END:VEVENT
BEGIN:VEVENT
DTSTART;TZID=America/Chicago:20250222T110000
DTEND;TZID=America/Chicago:20250222T120000
DTSTAMP:20260419T093415
CREATED:20250129T233523Z
LAST-MODIFIED:20250129T233533Z
UID:1513-1740222000-1740225600@mtolivemke.org
SUMMARY:7/8 Boys Basketball Game
DESCRIPTION:Home Game vs. Granville Lutheran
URL:https://mtolivemke.org/event/7-8-boys-basketball-game-2-22-25/
CATEGORIES:Athletics,School Calendar
END:VEVENT
BEGIN:VEVENT
DTSTART;TZID=America/Chicago:20250222T120000
DTEND;TZID=America/Chicago:20250222T130000
DTSTAMP:20260419T093415
CREATED:20250129T233622Z
LAST-MODIFIED:20250129T233630Z
UID:1515-1740225600-1740229200@mtolivemke.org
SUMMARY:7/8 Girls Basketball Game
DESCRIPTION:Home Game vs. Pilgrim Lutheran
URL:https://mtolivemke.org/event/7-8-girls-basketball-game-2-22-25/
CATEGORIES:Athletics,School Calendar
END:VEVENT
END:VCALENDAR