BEGIN:VCALENDAR
VERSION:2.0
PRODID:-//Mount Olive Lutheran - ECPv6.15.20//NONSGML v1.0//EN
CALSCALE:GREGORIAN
METHOD:PUBLISH
X-WR-CALNAME:Mount Olive Lutheran
X-ORIGINAL-URL:https://mtolivemke.org
X-WR-CALDESC:Events for Mount Olive Lutheran
REFRESH-INTERVAL;VALUE=DURATION:PT1H
X-Robots-Tag:noindex
X-PUBLISHED-TTL:PT1H
BEGIN:VTIMEZONE
TZID:America/Chicago
BEGIN:DAYLIGHT
TZOFFSETFROM:-0600
TZOFFSETTO:-0500
TZNAME:CDT
DTSTART:20240310T080000
END:DAYLIGHT
BEGIN:STANDARD
TZOFFSETFROM:-0500
TZOFFSETTO:-0600
TZNAME:CST
DTSTART:20241103T070000
END:STANDARD
BEGIN:DAYLIGHT
TZOFFSETFROM:-0600
TZOFFSETTO:-0500
TZNAME:CDT
DTSTART:20250309T080000
END:DAYLIGHT
BEGIN:STANDARD
TZOFFSETFROM:-0500
TZOFFSETTO:-0600
TZNAME:CST
DTSTART:20251102T070000
END:STANDARD
BEGIN:DAYLIGHT
TZOFFSETFROM:-0600
TZOFFSETTO:-0500
TZNAME:CDT
DTSTART:20260308T080000
END:DAYLIGHT
BEGIN:STANDARD
TZOFFSETFROM:-0500
TZOFFSETTO:-0600
TZNAME:CST
DTSTART:20261101T070000
END:STANDARD
END:VTIMEZONE
BEGIN:VEVENT
DTSTART;VALUE=DATE:20251017
DTEND;VALUE=DATE:20251018
DTSTAMP:20260422T015750
CREATED:20250806T070246Z
LAST-MODIFIED:20250911T151747Z
UID:1921-1760659200-1760745599@mtolivemke.org
SUMMARY:Fall Fest
DESCRIPTION:
URL:https://mtolivemke.org/event/fall-fest/
CATEGORIES:Church Calendar,School Calendar
ATTACH;FMTTYPE=image/png:https://mtolivemke.org/wp-content/uploads/2025/08/Fall-Fest.png
END:VEVENT
BEGIN:VEVENT
DTSTART;TZID=America/Chicago:20250928T100000
DTEND;TZID=America/Chicago:20250928T170000
DTSTAMP:20260422T015750
CREATED:20250927T140405Z
LAST-MODIFIED:20250927T140447Z
UID:2128-1759053600-1759078800@mtolivemke.org
SUMMARY:Doors Open Milwaukee
DESCRIPTION:
URL:https://mtolivemke.org/event/doors-open-milwaukee-2/
CATEGORIES:Church Calendar
ATTACH;FMTTYPE=image/png:https://mtolivemke.org/wp-content/uploads/2025/09/Doors-Open-Milwaukee.png
END:VEVENT
BEGIN:VEVENT
DTSTART;TZID=America/Chicago:20250927T100000
DTEND;TZID=America/Chicago:20250927T170000
DTSTAMP:20260422T015750
CREATED:20250927T140606Z
LAST-MODIFIED:20250927T140636Z
UID:2131-1758967200-1758992400@mtolivemke.org
SUMMARY:Doors Open Milwaukee
DESCRIPTION:
URL:https://mtolivemke.org/event/doors-open-milwaukee/
CATEGORIES:Church Calendar
ATTACH;FMTTYPE=image/png:https://mtolivemke.org/wp-content/uploads/2025/09/Doors-Open-Milwaukee.png
END:VEVENT
BEGIN:VEVENT
DTSTART;VALUE=DATE:20250912
DTEND;VALUE=DATE:20250913
DTSTAMP:20260422T015750
CREATED:20250806T063945Z
LAST-MODIFIED:20250911T151914Z
UID:1917-1757635200-1757721599@mtolivemke.org
SUMMARY:School Picnic
DESCRIPTION:
URL:https://mtolivemke.org/event/school-picnic/
CATEGORIES:School Calendar
ATTACH;FMTTYPE=image/png:https://mtolivemke.org/wp-content/uploads/2025/08/School-Picnic.png
END:VEVENT
BEGIN:VEVENT
DTSTART;TZID=America/Chicago:20250911T160000
DTEND;TZID=America/Chicago:20250911T200000
DTSTAMP:20260422T015750
CREATED:20250627T072306Z
LAST-MODIFIED:20250627T072306Z
UID:1853-1757606400-1757620800@mtolivemke.org
SUMMARY:Washington Heights Night Market
DESCRIPTION:Join us on Washington Boulevard right in front of Mount Olive for a neighborhood event hosted by our church and school with food trucks\, craft vendors\, kid zone\, and live music.
URL:https://mtolivemke.org/event/washington-heights-night-market-2025-sep/
CATEGORIES:Church Calendar,School Calendar
ATTACH;FMTTYPE=image/png:https://mtolivemke.org/wp-content/uploads/2025/05/Night-Market-Frame.png
END:VEVENT
BEGIN:VEVENT
DTSTART;VALUE=DATE:20250901
DTEND;VALUE=DATE:20250902
DTSTAMP:20260422T015750
CREATED:20250806T054120Z
LAST-MODIFIED:20250806T064422Z
UID:1914-1756684800-1756771199@mtolivemke.org
SUMMARY:No School | Labor Day
DESCRIPTION:
URL:https://mtolivemke.org/event/no-school-labor-day/
CATEGORIES:School Calendar
ATTACH;FMTTYPE=image/png:https://mtolivemke.org/wp-content/uploads/2025/08/No-School.png
END:VEVENT
BEGIN:VEVENT
DTSTART;VALUE=DATE:20250827
DTEND;VALUE=DATE:20250828
DTSTAMP:20260422T015750
CREATED:20250805T222306Z
LAST-MODIFIED:20250805T222934Z
UID:1909-1756252800-1756339199@mtolivemke.org
SUMMARY:First Day of School
DESCRIPTION:
URL:https://mtolivemke.org/event/first-day-of-school/
CATEGORIES:School Calendar
ATTACH;FMTTYPE=image/png:https://mtolivemke.org/wp-content/uploads/2025/08/First-Day-of-School-2.png
END:VEVENT
BEGIN:VEVENT
DTSTART;TZID=America/Chicago:20250814T160000
DTEND;TZID=America/Chicago:20250814T200000
DTSTAMP:20260422T015750
CREATED:20250627T071842Z
LAST-MODIFIED:20250806T074150Z
UID:1851-1755187200-1755201600@mtolivemke.org
SUMMARY:Washington Heights Night Market
DESCRIPTION:Join us on Washington Boulevard right in front of Mount Olive for a neighborhood event hosted by our church and school with food trucks\, craft vendors\, kid zone\, and live music.
URL:https://mtolivemke.org/event/washington-heights-night-market-2025-aug/
CATEGORIES:Church Calendar,School Calendar
ATTACH;FMTTYPE=image/png:https://mtolivemke.org/wp-content/uploads/2025/05/Night-Market-Frame.png
END:VEVENT
BEGIN:VEVENT
DTSTART;TZID=America/Chicago:20250710T160000
DTEND;TZID=America/Chicago:20250710T200000
DTSTAMP:20260422T015750
CREATED:20250627T071232Z
LAST-MODIFIED:20250627T071510Z
UID:1849-1752163200-1752177600@mtolivemke.org
SUMMARY:Washington Heights Night Market
DESCRIPTION:Join us on Washington Boulevard right in front of Mount Olive for a neighborhood event hosted by our church and school with food trucks\, craft vendors\, kid zone\, and live music.
URL:https://mtolivemke.org/event/washington-heights-night-market-2025-jul/
CATEGORIES:Church Calendar,School Calendar
ATTACH;FMTTYPE=image/png:https://mtolivemke.org/wp-content/uploads/2025/05/Night-Market-Frame.png
END:VEVENT
BEGIN:VEVENT
DTSTART;TZID=America/Chicago:20250612T160000
DTEND;TZID=America/Chicago:20250612T200000
DTSTAMP:20260422T015750
CREATED:20250608T030928Z
LAST-MODIFIED:20250608T031242Z
UID:1839-1749744000-1749758400@mtolivemke.org
SUMMARY:Washington Heights Night Market
DESCRIPTION:Join us on Washington Boulevard right in front of Mount Olive for a neighborhood event with food trucks\, craft vendors\, and live music. Mount Olive is hosting a free kid zone on our property as well. Join us for a fun evening in our neighborhood!
URL:https://mtolivemke.org/event/washington-heights-night-market-2/
CATEGORIES:Church Calendar,School Calendar
ATTACH;FMTTYPE=image/png:https://mtolivemke.org/wp-content/uploads/2025/05/Night-Market-Frame.png
END:VEVENT
BEGIN:VEVENT
DTSTART;TZID=America/Chicago:20250529T183000
DTEND;TZID=America/Chicago:20250529T193000
DTSTAMP:20260422T015750
CREATED:20250106T152232Z
LAST-MODIFIED:20250106T152232Z
UID:837-1748543400-1748547000@mtolivemke.org
SUMMARY:Ascension Day Divine Service & Recognition of Choristers
DESCRIPTION:
URL:https://mtolivemke.org/event/ascension-day-divine-service-recognition-of-choristers/
CATEGORIES:Church Calendar
END:VEVENT
BEGIN:VEVENT
DTSTART;TZID=America/Chicago:20250529T121500
DTEND;TZID=America/Chicago:20250529T131500
DTSTAMP:20260422T015750
CREATED:20250106T152145Z
LAST-MODIFIED:20250106T152145Z
UID:835-1748520900-1748524500@mtolivemke.org
SUMMARY:Ascension Day Divine Service
DESCRIPTION:
URL:https://mtolivemke.org/event/ascension-day-divine-service/
CATEGORIES:Church Calendar
END:VEVENT
BEGIN:VEVENT
DTSTART;TZID=America/Chicago:20250528T183000
DTEND;TZID=America/Chicago:20250528T193000
DTSTAMP:20260422T015750
CREATED:20250106T152054Z
LAST-MODIFIED:20250106T153340Z
UID:833-1748457000-1748460600@mtolivemke.org
SUMMARY:School Spring Concert
DESCRIPTION:
URL:https://mtolivemke.org/event/school-spring-concert/
CATEGORIES:Church Calendar,School Calendar
END:VEVENT
BEGIN:VEVENT
DTSTART;TZID=America/Chicago:20250522T173000
DTEND;TZID=America/Chicago:20250522T193000
DTSTAMP:20260422T015750
CREATED:20250106T153305Z
LAST-MODIFIED:20250106T153305Z
UID:862-1747935000-1747942200@mtolivemke.org
SUMMARY:High Honor Roll
DESCRIPTION:
URL:https://mtolivemke.org/event/high-honor-roll/
CATEGORIES:School Calendar
END:VEVENT
BEGIN:VEVENT
DTSTART;TZID=America/Chicago:20250508T160000
DTEND;TZID=America/Chicago:20250508T200000
DTSTAMP:20260422T015750
CREATED:20250502T080206Z
LAST-MODIFIED:20250502T080304Z
UID:1811-1746720000-1746734400@mtolivemke.org
SUMMARY:Washington Heights Night Market
DESCRIPTION:Join us on Washington Boulevard right in front of Mount Olive for a neighborhood event with food trucks\, craft vendors\, and live music. Mount Olive is hosting a free kid zone on our property as well. Please plan on joining us if you are able that evening for a great time!
URL:https://mtolivemke.org/event/washington-heights-night-market/
CATEGORIES:Church Calendar,School Calendar
ATTACH;FMTTYPE=image/png:https://mtolivemke.org/wp-content/uploads/2025/05/Night-Market-Frame.png
END:VEVENT
BEGIN:VEVENT
DTSTART;TZID=America/Chicago:20250425T183000
DTEND;TZID=America/Chicago:20250425T210000
DTSTAMP:20260422T015750
CREATED:20250106T153037Z
LAST-MODIFIED:20250106T153037Z
UID:855-1745605800-1745614800@mtolivemke.org
SUMMARY:Father Daughter Dance
DESCRIPTION:
URL:https://mtolivemke.org/event/father-daughter-dance/
CATEGORIES:School Calendar
END:VEVENT
BEGIN:VEVENT
DTSTART;TZID=America/Chicago:20250420T093000
DTEND;TZID=America/Chicago:20250420T224500
DTSTAMP:20260422T015750
CREATED:20250106T151952Z
LAST-MODIFIED:20250106T151952Z
UID:831-1745141400-1745189100@mtolivemke.org
SUMMARY:Easter Sunday
DESCRIPTION:
URL:https://mtolivemke.org/event/easter-sunday/
CATEGORIES:Church Calendar
END:VEVENT
BEGIN:VEVENT
DTSTART;TZID=America/Chicago:20250419T160000
DTEND;TZID=America/Chicago:20250419T170000
DTSTAMP:20260422T015750
CREATED:20250106T151910Z
LAST-MODIFIED:20250106T151910Z
UID:829-1745078400-1745082000@mtolivemke.org
SUMMARY:Holy Saturday Vespers
DESCRIPTION:
URL:https://mtolivemke.org/event/holy-saturday-vespers/
CATEGORIES:Church Calendar
END:VEVENT
BEGIN:VEVENT
DTSTART;TZID=America/Chicago:20250418T183000
DTEND;TZID=America/Chicago:20250418T193000
DTSTAMP:20260422T015750
CREATED:20250106T151843Z
LAST-MODIFIED:20250106T151843Z
UID:827-1745001000-1745004600@mtolivemke.org
SUMMARY:Good Friday
DESCRIPTION:
URL:https://mtolivemke.org/event/good-friday/
CATEGORIES:Church Calendar
END:VEVENT
BEGIN:VEVENT
DTSTART;TZID=America/Chicago:20250417T183000
DTEND;TZID=America/Chicago:20250417T193000
DTSTAMP:20260422T015750
CREATED:20250106T151737Z
LAST-MODIFIED:20250106T151737Z
UID:825-1744914600-1744918200@mtolivemke.org
SUMMARY:Maundy Thursday Divine Service & Stripping of the Altar
DESCRIPTION:
URL:https://mtolivemke.org/event/maundy-thursday-divine-service-stripping-of-the-altar/
CATEGORIES:Church Calendar
END:VEVENT
BEGIN:VEVENT
DTSTART;TZID=America/Chicago:20250417T121500
DTEND;TZID=America/Chicago:20250417T131500
DTSTAMP:20260422T015750
CREATED:20250330T091407Z
LAST-MODIFIED:20250330T091506Z
UID:1768-1744892100-1744895700@mtolivemke.org
SUMMARY:Maundy Thursday Divine Service
DESCRIPTION:
URL:https://mtolivemke.org/event/maundy-thursday-divine-service/
END:VEVENT
BEGIN:VEVENT
DTSTART;TZID=America/Chicago:20250413T093000
DTEND;TZID=America/Chicago:20250413T104500
DTSTAMP:20260422T015750
CREATED:20250106T151433Z
LAST-MODIFIED:20250106T151433Z
UID:821-1744536600-1744541100@mtolivemke.org
SUMMARY:Palm Sunday
DESCRIPTION:
URL:https://mtolivemke.org/event/palm-sunday/
CATEGORIES:Church Calendar
END:VEVENT
BEGIN:VEVENT
DTSTART;TZID=America/Chicago:20250409T183000
DTEND;TZID=America/Chicago:20250409T193000
DTSTAMP:20260422T015750
CREATED:20250106T151323Z
LAST-MODIFIED:20250106T151323Z
UID:819-1744223400-1744227000@mtolivemke.org
SUMMARY:Lenten Evening Prayer
DESCRIPTION:
URL:https://mtolivemke.org/event/lenten-evening-prayer-5/
CATEGORIES:Church Calendar
END:VEVENT
BEGIN:VEVENT
DTSTART;TZID=America/Chicago:20250409T121500
DTEND;TZID=America/Chicago:20250409T124500
DTSTAMP:20260422T015750
CREATED:20250106T151232Z
LAST-MODIFIED:20250106T151232Z
UID:817-1744200900-1744202700@mtolivemke.org
SUMMARY:Lenten Noonday Prayer
DESCRIPTION:
URL:https://mtolivemke.org/event/lenten-noonday-prayer-5/
CATEGORIES:Church Calendar
END:VEVENT
BEGIN:VEVENT
DTSTART;TZID=America/Chicago:20250409T081000
DTEND;TZID=America/Chicago:20250409T084000
DTSTAMP:20260422T015750
CREATED:20250106T151156Z
LAST-MODIFIED:20250106T151156Z
UID:815-1744186200-1744188000@mtolivemke.org
SUMMARY:Lenten Morning Prayer
DESCRIPTION:
URL:https://mtolivemke.org/event/lenten-morning-prayer-4/
CATEGORIES:Church Calendar
END:VEVENT
BEGIN:VEVENT
DTSTART;TZID=America/Chicago:20250402T183000
DTEND;TZID=America/Chicago:20250402T193000
DTSTAMP:20260422T015750
CREATED:20250106T151054Z
LAST-MODIFIED:20250106T151054Z
UID:813-1743618600-1743622200@mtolivemke.org
SUMMARY:Lenten Evening Prayer
DESCRIPTION:
URL:https://mtolivemke.org/event/lenten-evening-prayer-4/
CATEGORIES:Church Calendar
END:VEVENT
BEGIN:VEVENT
DTSTART;TZID=America/Chicago:20250402T121500
DTEND;TZID=America/Chicago:20250402T124500
DTSTAMP:20260422T015750
CREATED:20250106T151024Z
LAST-MODIFIED:20250106T151024Z
UID:811-1743596100-1743597900@mtolivemke.org
SUMMARY:Lenten Noonday Prayer
DESCRIPTION:
URL:https://mtolivemke.org/event/lenten-noonday-prayer-4/
CATEGORIES:Church Calendar
END:VEVENT
BEGIN:VEVENT
DTSTART;TZID=America/Chicago:20250402T081000
DTEND;TZID=America/Chicago:20250402T084000
DTSTAMP:20260422T015750
CREATED:20250106T150945Z
LAST-MODIFIED:20250106T150945Z
UID:809-1743581400-1743583200@mtolivemke.org
SUMMARY:Lenten Morning Prayer
DESCRIPTION:
URL:https://mtolivemke.org/event/lenten-morning-prayer-3/
CATEGORIES:Church Calendar
END:VEVENT
BEGIN:VEVENT
DTSTART;TZID=America/Chicago:20250326T183000
DTEND;TZID=America/Chicago:20250326T193000
DTSTAMP:20260422T015750
CREATED:20250106T150911Z
LAST-MODIFIED:20250106T150911Z
UID:807-1743013800-1743017400@mtolivemke.org
SUMMARY:Lenten Evening Prayer
DESCRIPTION:
URL:https://mtolivemke.org/event/lenten-evening-prayer-3/
CATEGORIES:Church Calendar
END:VEVENT
BEGIN:VEVENT
DTSTART;TZID=America/Chicago:20250326T121500
DTEND;TZID=America/Chicago:20250326T124500
DTSTAMP:20260422T015750
CREATED:20250106T150742Z
LAST-MODIFIED:20250106T150742Z
UID:803-1742991300-1742993100@mtolivemke.org
SUMMARY:Lenten Noonday Prayer
DESCRIPTION:
URL:https://mtolivemke.org/event/lenten-noonday-prayer-3/
CATEGORIES:Church Calendar
END:VEVENT
END:VCALENDAR